BEGIN:VCALENDAR
VERSION:2.0
PRODID:-//Buena Park Neighbors - ECPv6.15.20//NONSGML v1.0//EN
CALSCALE:GREGORIAN
METHOD:PUBLISH
X-WR-CALNAME:Buena Park Neighbors
X-ORIGINAL-URL:https://buenaparkneighbors.org
X-WR-CALDESC:Events for Buena Park Neighbors
REFRESH-INTERVAL;VALUE=DURATION:PT1H
X-Robots-Tag:noindex
X-PUBLISHED-TTL:PT1H
BEGIN:VTIMEZONE
TZID:America/Chicago
BEGIN:DAYLIGHT
TZOFFSETFROM:-0600
TZOFFSETTO:-0500
TZNAME:CDT
DTSTART:20250309T080000
END:DAYLIGHT
BEGIN:STANDARD
TZOFFSETFROM:-0500
TZOFFSETTO:-0600
TZNAME:CST
DTSTART:20251102T070000
END:STANDARD
BEGIN:DAYLIGHT
TZOFFSETFROM:-0600
TZOFFSETTO:-0500
TZNAME:CDT
DTSTART:20260308T080000
END:DAYLIGHT
BEGIN:STANDARD
TZOFFSETFROM:-0500
TZOFFSETTO:-0600
TZNAME:CST
DTSTART:20261101T070000
END:STANDARD
BEGIN:DAYLIGHT
TZOFFSETFROM:-0600
TZOFFSETTO:-0500
TZNAME:CDT
DTSTART:20270314T080000
END:DAYLIGHT
BEGIN:STANDARD
TZOFFSETFROM:-0500
TZOFFSETTO:-0600
TZNAME:CST
DTSTART:20271107T070000
END:STANDARD
END:VTIMEZONE
BEGIN:VEVENT
DTSTART;TZID=America/Chicago:20260517T130000
DTEND;TZID=America/Chicago:20260517T173000
DTSTAMP:20260424T103529
CREATED:20260422T204929Z
LAST-MODIFIED:20260423T221327Z
UID:7695-1779022800-1779039000@buenaparkneighbors.org
SUMMARY:Buena Park Porchfest 2026
DESCRIPTION:PorchFest is back for year four\, and we're turning Buena Park into the most intimate music venue in the city.				\n				\n					\n		\n					\n		\n				\n						\n					\n			\n						\n				\n									27+ musical acts will take over 10 porches and yards for one afternoon only. Bring your lawn chair\, grab a drink\, and wander from stage to stage. One minute you’re watching a solo acoustic set on a Victorian porch. The next? A full band tearing it up in someone’s backyard. This is live music the way it was meant to be heard: up close\, outdoors\, and surrounded by your BPN neighbors. Your ticket gets you a digital event guide emailed before the big day\, featuring a full map of every porch stage\, set times for all acts\, and artist bios so you can plan your perfect PorchFest route. Every ticket also supports the musicians and Buena Park Neighbors\, the nonprofit keeping our community connected. Festival Lineup to be announced soon! 								\n				\n				\n				\n									Early Bird (Now – lineup reveal)Early Bird Pricing : $12BPN Member Pricing : $10 Regular (After lineup reveal)Regular Public Pricing : $15BPN Member Pricing : $12 								\n				\n					\n		\n				\n			\n						\n				\n																														\n				\n				\n				\n									\n					\n						\n									PorchFest Tickets\n					\n					\n				\n								\n				\n				\n				\n									*All ticket sales are final. No refunds will be given.
URL:https://buenaparkneighbors.org/event/buena-park-porchfest-2026/
LOCATION:Buena Park\, 4101 N Broadway\, Chicago\, IL\, 60613\, United States
CATEGORIES:PorchFest
ATTACH;FMTTYPE=image/png:https://buenaparkneighbors.org/wp-content/uploads/2026/04/260423_header.png
END:VEVENT
END:VCALENDAR